{
 "currentVersion": 10.51,
 "serviceDescription": "",
 "mapName": "Layers",
 "description": "",
 "copyrightText": "",
 "supportsDynamicLayers": false,
 "layers": [
  {
   "id": 0,
   "name": "cache_50k_vg94",
   "parentLayerId": -1,
   "defaultVisibility": true,
   "subLayerIds": null,
   "minScale": 8000000,
   "maxScale": 0
  }
 ],
 "tables": [],
 "spatialReference": {
  "wkid": 102171,
  "latestWkid": 3111
 },
 "singleFusedMapCache": true,
 "tileInfo": {
  "rows": 256,
  "cols": 256,
  "dpi": 96,
  "format": "PNG",
  "compressionQuality": 75,
  "origin": {
   "x": -34932800,
   "y": 57119200
  },
  "spatialReference": {
   "wkid": 102171,
   "latestWkid": 3111
  },
  "lods": [
   {
    "level": 0,
    "resolution": 2116.670900008467,
    "scale": 8000000
   },
   {
    "level": 1,
    "resolution": 1058.3354500042335,
    "scale": 4000000
   },
   {
    "level": 2,
    "resolution": 529.1677250021168,
    "scale": 2000000
   },
   {
    "level": 3,
    "resolution": 264.5838625010584,
    "scale": 1000000
   },
   {
    "level": 4,
    "resolution": 132.2919312505292,
    "scale": 500000
   },
   {
    "level": 5,
    "resolution": 66.1459656252646,
    "scale": 250000
   },
   {
    "level": 6,
    "resolution": 26.458386250105836,
    "scale": 100000
   },
   {
    "level": 7,
    "resolution": 13.229193125052918,
    "scale": 50000
   },
   {
    "level": 8,
    "resolution": 6.614596562526459,
    "scale": 25000
   },
   {
    "level": 9,
    "resolution": 2.6458386250105836,
    "scale": 10000
   },
   {
    "level": 10,
    "resolution": 1.3229193125052918,
    "scale": 5000
   },
   {
    "level": 11,
    "resolution": 0.6614596562526459,
    "scale": 2500
   },
   {
    "level": 12,
    "resolution": 0.33072982812632296,
    "scale": 1250
   },
   {
    "level": 13,
    "resolution": 0.21166709000084669,
    "scale": 800
   }
  ]
 },
 "initialExtent": {
  "xmin": 2254562.757168437,
  "ymin": 2473657.1048860704,
  "xmax": 2812021.0547198257,
  "ymax": 2945602.3820363726,
  "spatialReference": {
   "wkid": 102171,
   "latestWkid": 3111
  }
 },
 "fullExtent": {
  "xmin": 2115848.9619567245,
  "ymin": 2253822.7118181437,
  "xmax": 2950734.849931538,
  "ymax": 2836374.013054546,
  "spatialReference": {
   "wkid": 102171,
   "latestWkid": 3111
  }
 },
 "minScale": 8000000,
 "maxScale": 800,
 "units": "esriMeters",
 "supportedImageFormatTypes": "PNG32,PNG24,PNG,JPG,DIB,TIFF,EMF,PS,PDF,GIF,SVG,SVGZ,BMP",
 "documentInfo": {
  "Title": "",
  "Author": "",
  "Comments": "",
  "Subject": "",
  "Category": "",
  "AntialiasingMode": "None",
  "TextAntialiasingMode": "None",
  "Keywords": ""
 },
 "capabilities": "Map,Query,Data",
 "supportedQueryFormats": "JSON, AMF, geoJSON",
 "exportTilesAllowed": false,
 "supportsDatumTransformation": true,
 "maxRecordCount": 1000,
 "maxImageHeight": 4096,
 "maxImageWidth": 4096,
 "supportedExtensions": ""
}
